BEGIN:VCALENDAR
VERSION:2.0
PRODID:-//AudioTheme 2.3.8
BEGIN:VEVENT
UID:urn:uuid:d9e6c891-a5eb-4067-94df-ab04fb720c93
URL:https://emilyandersonak.com/shows/emily-anderson-willow-stephens-live-at-nonnas-osteria-wasilla-ak/
DTSTART;TZID=GMT:20260414T000000
SUMMARY:Emily Anderson & Willow Stephens Live at Nonna's Osteria - Wasilla AK
DESCRIPTION:Doors at 5pm\, Music at 7pm  A night of shimmering pop and soul while you ponder the secret of Nonna's fettuccine alfredo.
LOCATION:Nonna's Osteria\, 201 West Herning Avenue\, Wasilla\, AK\, 99654
END:VEVENT
END:VCALENDAR
