BEGIN:VCALENDAR
VERSION:2.0
PRODID:-//AudioTheme 2.3.8
BEGIN:VEVENT
UID:urn:uuid:7105d774-5669-40bf-898c-a55aca9573d1
URL:https://emilyandersonak.com/shows/the-royal-room-seattle-wa/
DTSTART;TZID=GMT:20260412T000000
SUMMARY:The Royal Room - Seattle WA
DESCRIPTION:Emily Anderson & Willow Stephens at The Royal Room in Seattle. Doors at 5:30\, Music at 6:30pm - dinner & a show!
LOCATION:The Royal Room\, 5000 Rainier Ave S\, Seattle\, WA\, 98118
END:VEVENT
END:VCALENDAR
